BEGIN:VCALENDAR
VERSION:2.0
PRODID:-//hacksw/handcal//NONSGML v1.0//EN
CALSCALE:GREGORIAN
BEGIN:VEVENT
UID:69e88be93df2c
SEQUENCE:0
DESCRIPTION:第５回　最新水素研究2025　セミナー【会場参加申込フォーム】
DTSTART:20250302T010000Z
DTEND:20250302T083000Z
SUMMARY:第５回　最新水素研究2025　セミナー【会場参加申込フォーム】
LOCATION:東京大学 伊藤謝恩ホール
URL:https://online.npc-tyo.co.jp/event/91952/vs2S
DTSTAMP:20260422T175049Z
END:VEVENT
END:VCALENDAR