BEGIN:VCALENDAR
VERSION:2.0
PRODID:-//hacksw/handcal//NONSGML v1.0//EN
CALSCALE:GREGORIAN
BEGIN:VEVENT
UID:69e8895961457
SEQUENCE:0
DESCRIPTION:第５回　最新水素研究2025　セミナー【オンライン参加申込フォーム】
DTSTART:20250302T010000Z
DTEND:20250302T083000Z
SUMMARY:第５回　最新水素研究2025　セミナー【オンライン参加申込フォーム】
LOCATION:Zoomを使用したオンライン配信
URL:https://online.npc-tyo.co.jp/event/91951/vs2S
DTSTAMP:20260422T173953Z
END:VEVENT
END:VCALENDAR