BEGIN:VCALENDAR
VERSION:2.0
PRODID:-//hacksw/handcal//NONSGML v1.0//EN
CALSCALE:GREGORIAN
BEGIN:VEVENT
UID:69e9d9f7ceacc
SEQUENCE:0
DESCRIPTION:【動画視聴】2025年度ダイヤ財団主催シンポジウム　「100歳までのライフプラン2－自分らしい人生のための福・禄・寿－」
DTSTART:20251208T040000Z
DTEND:20260331T040000Z
SUMMARY:【動画視聴】2025年度ダイヤ財団主催シンポジウム　「100歳までのライフプラン2－自分らしい人生のための福・禄・寿－」
LOCATION:
URL:https://online.npc-tyo.co.jp/event/107831/rvm8zYZjPBQq
DTSTAMP:20260423T173607Z
END:VEVENT
END:VCALENDAR